BEGIN:VCALENDAR
VERSION:2.0
PRODID:-//The Green at 320 - ECPv6.4.0//NONSGML v1.0//EN
CALSCALE:GREGORIAN
METHOD:PUBLISH
X-WR-CALNAME:The Green at 320
X-ORIGINAL-URL:https://thegreenat320southcanal.com
X-WR-CALDESC:Events for The Green at 320
REFRESH-INTERVAL;VALUE=DURATION:PT1H
X-Robots-Tag:noindex
X-PUBLISHED-TTL:PT1H
BEGIN:VTIMEZONE
TZID:America/Chicago
BEGIN:DAYLIGHT
TZOFFSETFROM:-0600
TZOFFSETTO:-0500
TZNAME:CDT
DTSTART:20260308T080000
END:DAYLIGHT
BEGIN:STANDARD
TZOFFSETFROM:-0500
TZOFFSETTO:-0600
TZNAME:CST
DTSTART:20261101T070000
END:STANDARD
END:VTIMEZONE
BEGIN:VEVENT
DTSTART;TZID=America/Chicago:20260421T080000
DTEND;TZID=America/Chicago:20260421T090000
DTSTAMP:20260421T021048
CREATED:20260417T194811Z
LAST-MODIFIED:20260417T195029Z
UID:10007050-1776758400-1776762000@thegreenat320southcanal.com
SUMMARY:Earthing Yoga
DESCRIPTION:Reset your body and mind at Earthing Yoga\, a guided session with Jennifer Rohr blending gentle movement\, breathwork\, meditation\, and aromatherapy. \nThis grounding experience is designed to calm the nervous system\, restore balance\, and help you reconnect. \nOpen to all levels – from beginner to experts. Yoga mats\, water\, and a great workout are always provided. \n🗓️ Date: Tuesday\, April 21 \n🕚 Time: 8:00 – 9:00 AM \n📍 Location: Lawn of the Green \n🎫 Registration: Here \nIn the event of a weather-related cancellation\, follow our Instagram and Facebook for the most up to date event information. \nQuestions? Email us at 320events@cbre.com. \n 
URL:https://thegreenat320southcanal.com/event/earthing-yoga/
LOCATION:The Green at 320\, 320 South Canal Street\, Chicago\, Illinois\, 60606\, United States
CATEGORIES:Special Events
ATTACH;FMTTYPE=image/png:https://thegreenat320southcanal.com/wp-content/uploads/2026/04/4.21-Earthing-Yoga-Yoga-Sculpt.png
END:VEVENT
END:VCALENDAR